BEGIN:VCALENDAR
VERSION:2.0
PRODID:-//SPE Central Iraq Section - ECPv6.15.20//NONSGML v1.0//EN
CALSCALE:GREGORIAN
METHOD:PUBLISH
X-ORIGINAL-URL:https://spe-centraliraq.org
X-WR-CALDESC:Events for SPE Central Iraq Section
REFRESH-INTERVAL;VALUE=DURATION:PT1H
X-Robots-Tag:noindex
X-PUBLISHED-TTL:PT1H
BEGIN:VTIMEZONE
TZID:Europe/Moscow
BEGIN:STANDARD
TZOFFSETFROM:+0300
TZOFFSETTO:+0300
TZNAME:MSK
DTSTART:20240101T000000
END:STANDARD
END:VTIMEZONE
BEGIN:VTIMEZONE
TZID:Asia/Baghdad
BEGIN:STANDARD
TZOFFSETFROM:+0300
TZOFFSETTO:+0300
TZNAME:+03
DTSTART:20240101T000000
END:STANDARD
END:VTIMEZONE
BEGIN:VTIMEZONE
TZID:UTC
BEGIN:STANDARD
TZOFFSETFROM:+0000
TZOFFSETTO:+0000
TZNAME:UTC
DTSTART:20230101T000000
END:STANDARD
END:VTIMEZONE
BEGIN:VEVENT
DTSTART;TZID=Europe/Moscow:20260207T100000
DTEND;TZID=Europe/Moscow:20260207T100000
DTSTAMP:20260425T184307
CREATED:20260202T121024Z
LAST-MODIFIED:20260205T091251Z
UID:2585-1770458400-1770458400@spe-centraliraq.org
SUMMARY:SPE CIS Symposium: Meet & Greet with the SPE President
DESCRIPTION:The SPE Central Iraq Section is honored to host the SPE International President for a special professional Symposium titled “Meet & Greet with the SPE International President—Petroleum Engineering Insights & Career Outlook” bringing together academia\, industry leaders\, and future engineers under one platform. The program is designed to deliver practical insights into the petroleum engineering profession\, career outlook\, and industry expectations in a rapidly evolving energy landscape. \nThe event program will feature: \n\nKeynote Speech Address by the SPE International President\n\nPanel Session: Iraq’s Petroleum Engineering Job Market—Current Status and Future Outlook\nMemoranda of Cooperation Announcements\nStudent Chapters & Leadership Meeting\nNetworking & Meet & Greet\n\nParticipants will include representatives from international and national oil companies\, global and local service companies\, universities\, SPE members\, recent graduates\, and petroleum engineering students from major Iraqi universities. \nThis event aims to strengthen collaboration between academia and industry\, support young professionals\, and promote knowledge exchange within Iraq’s oil and gas community. \n\nWho Should Attend:Recent graduates\, petroleum engineers\, petroleum engineering students\, academics\, industry professionals\, and SPE members. \n\nRegistration: \n\n\n\n\n\n\n\n\n\nRegistration is free of charge\, with priority given to active SPE members. Attendance is subject to prior approval (successful applicants will receive a confirmation email with attendance confirmation before the event). \nRegistration Deadline: Feb 5th\, 2025\, 11:59 AM. \n\n\n\nPlease be advised that event registration has officially closed due to the submission deadline having expired. \n\n\n\n 
URL:https://spe-centraliraq.org/event/spe-cis-symposium-meet-greet-with-the-spe-international-president-petroleum-engineering-insights-career-outlook/
LOCATION:Al-Farabi University\, Dora Neighborhood\, Dora Refinery (Al-Masafi) Street – Opposite to Abo Tayara St.\, Baghdad\, Iraq
ORGANIZER;CN="SPE Central Iraq Section":MAILTO:info@spe-centraliraq.org
END:VEVENT
BEGIN:VEVENT
DTSTART;TZID=Asia/Baghdad:20251027T000000
DTEND;TZID=Asia/Baghdad:20251028T235959
DTSTAMP:20260425T184307
CREATED:20250620T172429Z
LAST-MODIFIED:20250620T173436Z
UID:1624-1761523200-1761695999@spe-centraliraq.org
SUMMARY:Iraq’s Petroleum Industry Workshop (IPIW): Today’s Innovations for Tomorrow’s Challenges
DESCRIPTION:Iraq’s Petroleum Industry Workshop: Today’s Innovations for Tomorrow’s Challenges\n\n\n\n\n\n“An event designed as Iraq’s flagship petroleum industry workshop\, held under the patronage of H.E. the Prime Minister of Iraq\, and with the support of H.E. the Deputy Prime Minister for Energy Affairs—Minister of Oil.” \n\n\n\n27-28 October\, 2025 Baghdad\, Iraq \n\n\n\n \n\n\n\n\nOn the right: H.E. Mr. Mohammed Shia’ Al-Sudani\, Prime Minister of Iraq. On the left: H.E. Mr. Hayan Abdulghani Al-Sawad\, Deputy Prime Minister for Energy Affairs—Minister of Oil\n\n\n\n\n\nRegister Now!\n\n\n\nDownload the Brochure\n\n\n\nDownload the Program (COMING SOON)\n\n\n\n\n\n\n\n\nBrought to you by\n\n\n\n\n\n\n\n\n\n\nUNDER THE PATRONAGE OF\n\n\n\nPrime Minister Government of Republic of Iraq \n\n\n\n\n\n\n\n\n\n\n\nEVENT SUPPORTER\n\n\n\nMinistry of Oil Republic of Iraq \n\n\n\n\n\n\n\n\n\n\n\nTECHNICAL ORGANIZER\n\n\n\nSociety of Petroleum Engineers (SPE International) – Central Iraq Section \n\n\n\n\n\n\n\n\nUnder the esteemed Patronage and Presence of H.E. the Prime Minister of Iraq\, Mr. Mohammed Shia’ Al Sudani\, and the Presence of H.E. the Deputy of Prime Minister for Energy Affairs and Minister of Oil\, Mr. Hayan Abdul-Ghani Al-Sawad\, we are delighted to announce Iraq’s Petroleum Industry Workshop: Today’s Innovations for Tomorrow’s Challenges\, a pivotal two-day event to be held in Baghdad\, 27-28 October 2025. This workshop is technically organized by the Society of Petroleum Engineers (SPE) Central Iraq Section\, in collaboration with Iraq’s Ministry of Oil\, affiliated entities\, and prominent Independent oil companies (IOCs) and service providers operating inside and outside Iraq. \n\n\n\n\n\n\n\n \n\n\nA SPECIALIZED WORKSHOP\n\n\n\n\n\n\nDesigned to be a critical platform\, uniting decision-makers from Iraqi authorities\, operators\, service providers\, subject matter experts\, researchers\, and prospective investors. It will address the technical\, environmental\, and economic challenges tied to field development and production operations in Iraq\, while paving the way for innovative solutions and collaborative opportunities. The workshop aims to enhance the operation of mature and marginal fields\, promote mutual growth for all stakeholders\, and raise awareness of current and future advancements in the upstream oil and gas sector. \n\n\n\n\n\nWELCOME MESSAGE FROM THE CHAIRMAN OF THE ORGANIZING COMMITTEE\n\n\n\n\n\n\n\nMr. Basim M. Khudair Deputy Minister of Oil for Upstream Affairs Chairman of the Organizing Committee\n\n\n\n\n\n\n“It is my pleasure to welcome you to the IPIW 2025\, a unique platform for industry leaders\, experts\, researchers\, and investors to discuss the future of Iraq’s oil and gas sector. With the support of the Ministry of Oil\, we aim to foster collaboration and expertise exchange to address industry challenges and opportunities. We look forward to your valuable participation in shaping a sustainable future for Iraq’s O&G sector” \n\n\n\n\n\n\n \n\n\n\n\n\nA MESSAGE FROM THE CHAIRMAN OF THE TECHNICAL COMMITTEE\n\n\n\n\n\n\n\nDr. Amir T. Alwazzan\, PhD\, CEng. – Petroleum (UK’S EI & EC)\, EUR-ING (FEANI)\, Chairman of the Technical Committee\, Production Assurance Manager – Planning & Strategy\, Dragon Oil (Holdings) Ltd.\, Dubai\, United Arab Emirates\n\n\n\n\n\n“As we move into a new era recognized with the wide spectrum of the 4th IR implementation; the global oil and gas industry stands on the brink of a significant inevitable transformation. In light of Iraq’s ambitious plans to expand its oil and gas sector\, SPE’s IPIW 2025 provides an excellent platform to hear from the decision makers in Iraq on the de-vilification of what is associated with our industry and champion its sustainability in the country. The event is tailor-made and thematically curated to provide an unprecedented opportunity for operators\, service companies and other industry stakeholders to explore potential opportunities to work closely with their Iraqi counterparts and exchange knowledge on the latest innovative state-of-the-art technical advancements in our industry” \n\n\n\n\n\n\n\nMeet the Keynote Speakers \n\n\n\nVoices Shaping the Future of Energy\n\n\n\nDiscover the distinguished leaders and industry visionaries who will share their insights\, experiences\, and forward-looking perspectives at IPIW 2025. \n\n\n\n\n\n\n\n\n\n\n\nMr. Fayyad Hassan Nehmeh\n\n\n\nAdvisor to the Prime Minister of Iraq for Energy Affairs \n\n\n\n Mr. Fayyad is a petroleum expert with deep expertise across key domains of Iraq’s oil industry\, including manufacturing\, downstream\, and upstream operations. Throughout his distinguished career\, he has held several high-level technical and administrative positions across affiliated companies and directorates within the Ministry of Oil. His leadership roles have included serving as Director General (DG) of the South Oil Company\, DG of the Studies\, Planning\, and Follow-up Directorate\, and DG of the Technical Directorate. He progressed in positions and served as Deputy Minister of Oil for Downstream Affairs and later as Senior Deputy Minister for Upstream Affairs. Currently\, Mr. Nehmeh serves as Advisor to the Prime Minister of Iraq for Energy Affairs\, where he continues to contribute his extensive knowledge to shaping national energy strategies and supporting the development of the energy sector under the current government. \n\n\n\n\n\n\n\n\n\nThe 2nd Keynote Speaker\n\n\n\n(COMING SOON) \n\n\n\n\n\n\n\n\nMEET THE LEADERS BEHIND THE VISION\n\n\n Get to know the key decision-makers\, industry experts and professionals driving this landmark event. These distinguished professionals from Iraq’s energy sector and international organizations serve as the pillars of the organizing committees\, shaping the work-shop’s goals\, content\, and impact. \n\n\n\n\n\n\nOTHER COMMITTEES’\n\n\n\n\n\n\n\nThis workshop presents an exceptional opportunity for local and international companies to explore avenues for cooperation and investment within Iraq’s thriving oil and gas industry. It will feature a keynote speech\,  strategic panel session\, multiple thematic panel discussions\, presentations (based on abstracts)\, technology demonstrations\, and interactive breakout sessions. \n\n\n\nKey Domains of Focus:\n\n\n\n\n\n\n\n\n \n\n\n\n\n\n“Where Strategy Meets Technology — Connecting Decision-Makers\, Innovators\, and Investors to Shape the Future of Iraq’s Oil and Gas Sector”\n\n\n\nA set of different activities to make the most of the event \n\n\n\n\n\n\n\n\n\n\n\n\n\n01 \n\n\n\nStrategic Panel Sessions\n\n\n Bringing together key stakeholders\, including government decision-makers\, the Ministry of Oil\, and international and local oil companies (private sector)\, to discuss major challenges and investment opportunities in Iraq. \n\n\n\n\n\n\n\n\n\n\n\n\n\n\n02 \n\n\n\nTechnical Sessions\n\n\n Showcasing cutting-edge technologies and services from global and local oil and gas companies to foster collaboration and promote business partnerships across the O&G value chain. \n\n\n\n\n\n\n\n\n\n\n\n\n\n\n03 \n\n\n\nIOC’s Booths\n\n\n Featuring select booths from oil and gas companies\, offering an additional platform for networking\, collaboration\, and post-event engagement. \n\n\n\n\n\n\n\n\n\n\nChoose Your Registration Pathway\n\n\n\nWhether you are a technology provider looking to present\, a company aiming to sponsor or a professional interested in attending and networking — choose your registration pathway and be part of IPIW 2025. \n\n\n\n\nRegister Now!\n\n\n\n 
URL:https://spe-centraliraq.org/event/theipiw/
LOCATION:Babylon Rotana\, Babylon Rotana Hotel\, Karrada Street\, Baghdad\, Baghdad\, Baghdad\, Iraq
ORGANIZER;CN="SPE Central Iraq Section":MAILTO:info@spe-centraliraq.org
END:VEVENT
BEGIN:VEVENT
DTSTART;TZID=Europe/Moscow:20250427T180000
DTEND;TZID=Europe/Moscow:20250427T193000
DTSTAMP:20260425T184307
CREATED:20250423T151345Z
LAST-MODIFIED:20250423T173153Z
UID:996-1745776800-1745782200@spe-centraliraq.org
SUMMARY:SPE Symposium: “Beyond Graduation— Insights From Industry Professionals to Get Ahead\, Get Funded\, and Get Hired"
DESCRIPTION:Join the SPE Symposium – “Beyond Graduation— Insights From Industry Professionals to Get Ahead\, Get Funded\, and Get Hired”\n\n  \nA unique event that empowers oil and gas-related discipline students and fresh graduates with the tools to stand out in the Iraqi crowded oil & gas job market. \n \nAre you a student or a recent graduate in oil and gas related disciplines?Do you want to stand out in today’s crowded job market and secure your place in international oil and gas companies? \nSPE International – Central Iraq Section is proud to invite you to the SPE Symposium 2025\, held under the patronage of Prof. Dr. Juma’a S. Chiad\, President of the University of Al-Karkh for Science. \n\nMeet Our Speakers:\n  \n1. Baraa Zubaidi\, Dip\, BEng\, MSc\, EMBA\nDeputy Chairperson\, SPE International – Central Iraq Section\n \nBaraa Zubaidi is a Renewable Energy Researcher and Deputy Chairperson of SPE International – Central Iraq Section. He heads the Energy Economics Research Unit at the Iraqi Think Tank for Energy Studies\, Petroleum R&D Center\, Ministry of Oil. With a strong focus on renewable energy integration in the oil and gas sector\, Baraa combines technical & economic expertise with strategic leadership. He is a Chevening\, UNITAR\, and IRENA Youth I ACT alumnus. His academic credentials include an MSc in Renewable Energy Engineering from Heriot-Watt University\, UK\, an EMBA from Quantic School of Businesses and Technology\, US\, and a BEng and Diploma in Electricity from MUC and BOTI. He has received 12 honors/Awards and actively supports youth empowerment and sustainable development. \n  \n2. Ahmed Hashim\nProjects Readiness Team Lead\nBritish Petroleum (BP)\n \nMr. Ahmed Hasim\, a chemical engineer graduated from Al-Nahrain University (2013). He is a seasoned professional in the oil and gas industry with roles at Shell\, Gazprom\, Anton Oil\, and BP\, where he currently serves as a Projects Readiness Team Lead. He has also led training efforts at Ishtar Company and contributed to Gulf Land. Beyond industry\, Ahmed is an entrepreneur and founder of Forsa organization\, promoting innovation and youth empowerment. He’s an alumnus of IYLEP\, UNITAR\, and ILF\, and represented Iraq at the IMF Annual Meetings in Morocco\, discussing global issues such as climate change\, digitalization\, and economic growth \n\nWhy You Should Attend:\n✔️ Learn how to position yourself for top scholarships and jobs✔️ Get practical guidance from industry professionals✔️ Understand international hiring standards✔️ Expand your network with leaders and like-minded peers✔️ Be inspired to be a part of the leading oil and gas company in Iraq. \n\nNote:Admission is free; however\, seating is limited. Priority will be given to members of the SPE Central Iraq Section. \nPlease note: Registration is open exclusively to YPs graduates. Applications from current students will not be considered\, as student participation will be coordinated directly through SPE-affiliated student chapters across Central Iraq. \n\n\n\n\n\n\n\n\n\nTo register for attendance at the event\, please complete the application form provided below by 11:59pm April 25th\, 2025.
URL:https://spe-centraliraq.org/event/spe-symposium-beyond-graduation-insights-from-industry-professionals-to-get-ahead-get-funded-and-get-hired/
LOCATION:University of Al-Karkh for Science\, Presidency Outdoor Auditorium\, University of Al-Karkh for Science\, Haifa St.\, Baghdad
ORGANIZER;CN="SPE Central Iraq Section":MAILTO:info@spe-centraliraq.org
END:VEVENT
BEGIN:VEVENT
DTSTART;TZID=Asia/Baghdad:20250205T100000
DTEND;TZID=Asia/Baghdad:20250205T123000
DTSTAMP:20260425T184307
CREATED:20250121T221822Z
LAST-MODIFIED:20250124T144712Z
UID:729-1738749600-1738758600@spe-centraliraq.org
SUMMARY:SPE Symposium: "Production Optimization in Iraqi Oil Fields via ESP Modern Technologies and Chemical Solutions"
DESCRIPTION:The Society of Petroleum Engineers (SPE) Central Iraq Section\, in collaboration with the Petroleum R&D Center (PRDC) and ESP Service LLC\, is pleased to invite you to an exclusive symposium that will explore cutting-edge technologies in electric submersible pumps (ESP) and oilfield chemistry. \n \nEvent Topics:\n1. Long-Term Energy Efficiency Strategy with ESP’s PMM – Insights from the Middle East\nESP Service LLC Speakers:\n\nLochinsky Igor– Iraq Country Manager\nKriukov Mikhail– Head of the Integrated Operating Center\nMaksim Zykov– Production Technology Manager\n\nThis presentation explores permanent magnet motors (PMMs) in electric submersible pump (ESP) installations\, highlighting their potential to improve energy efficiency\, reduce costs\, and enhance operational sustainability.\n \n2.⁠ Real-Time ESP Monitoring System\n\nESP Service LLC Speakers:\n\nLochinsky Igor– Iraq Country Manager\n\nThe presentation introduces an advanced real-time monitoring system for ESPs\, enhancing control\, operational efficiency\, remote adjustments\, and performance optimization\, reducing downtime and maintenance costs. \n3. Oilfield Chemistry – Development of Reagents and Application Experience\nThe presentation outlines the development and application of oilfield chemicals\, including scale inhibitors\, corrosion inhibitors\, and bactericidal properties\, from customer requests to conducting laboratory and pilot tests. It covers the development of concentrated chemical products\, strong emulsion breakers\, and optimizing formulations based on customer feedback. \nESP Service LLC Speakers:\n\nKhakimov Emil – Head of the Chemical Technology Department\n\nEvent Agenda:\n\n10:00 AM – 10:30 AM | Registration\n10:30 AM – 10:50 AM | Welcome Remarks by Event Hosts and Sponsors\n10:50 AM – 11:25 AM | Presentation 1 + Q&A\n11:25 AM – 11:50 AM | Presentation 2 + Q&A\n11:50 AM – 12:20 PM | Presentation 3 + Q&A\n12:20 PM – 12:35 PM | Closing Remarks\, Coffee Break & Networking\n\nJoin us to gain valuable insights from industry experts and network with key stakeholders shaping Iraq’s oil and gas industry. \nIf you are a member or willing to be a member of the SPE Central Iraq section to attend the event\, fill out the following online registration form\, and we will review your request and get back to you ASAP. \nThe deadline for applying is January 28th\, 2025 (11:59 pm Baghdad time).  \n \nFor more information and inquiries\, please contact:\nEmail: info@spe-centraliraq.org \n\n 
URL:https://spe-centraliraq.org/event/spe-symposium-production-optimization-in-iraqi-oil-fields-via-esp-modern-technologies-and-chemical-solutions/
LOCATION:Ministry of Oil\, Al-Aqsa Hall\, Ministry of Oil\, Baghdad\, Baghdad\, Iraq
ORGANIZER;CN="SPE Central Iraq Section":MAILTO:info@spe-centraliraq.org
END:VEVENT
BEGIN:VEVENT
DTSTART;TZID=UTC:20241221T100000
DTEND;TZID=UTC:20241224T140000
DTSTAMP:20260425T184307
CREATED:20241105T204727Z
LAST-MODIFIED:20241213T180436Z
UID:575-1734775200-1735048800@spe-centraliraq.org
SUMMARY:Training Course - Production Logging Interpretation (KAPPA)
DESCRIPTION:Professional Development Opportunity for Petroleum Engineers and Geologists!\n \nThe SPE Central Iraq Section is pleased to announce an upcoming specialized training course titled “Production Logging Interpretation using Emeraude Software“ as part of our annual activity plan. This event will be hosted at Al Farabi University College in Baghdad for the period 21–24/12/2024 and conducted in collaboration with KPPA Engineering\, a leading French company specializing in software solutions for dynamic data analysis in the oil industry. \n\nCourse Programme Highlights:\n\nBasic Theory:\n\nIn-depth understanding of sensors\, measurements\, their accuracy\, applications\, and resolution.\nKey concepts such as spinner calibration\, hold-up\, slippage\, and essential PL principles.\nBasic PVT and flow correlations with insights into two-phase and three-phase modeling.\n\n\nQuality Assurance and Quality Control (QA/QC):\n\nTechniques for assessing data quality and selecting the best passes.\nEditing and comparing data with simulations.\nPractical QA/QC tips for sensor optimization and programming a successful PL job.\n\n\nPractical Training:\n\nHands-on exercises using advanced cased-hole software (Emeraude).\nLive demonstration of interpretation methods\, ensuring participants gain working knowledge and confidence in real-world applications.\n\n\n\n KAPPA Emeraude is the industry standard software platform for production log interpretation\, shared between all major service companies\, most operating companies\, and independent contractors worldwide. Data from any PL string can be analyzed; from the simplest injector to the most complex multi-probe strings run in multiphase horizontal wells. To learn more about Emeraude software\, please visit the KAPPA Engineering website. \n\nCourse Instructor:\nMr. Ahmed Aljarah \n\n\n\n\nAhmed brings over 15 years of extensive and diverse experience across leading international companies\, with a strong focus on the service and operations sectors in Iraq. His expertise spans multiple domains\, and he has successfully designed and delivered numerous training programs for international oil companies both within Iraq and globally. As a seasoned professional\, Ahmed currently chairs the Young Professionals (YPs) Committee at the SPE Central Iraq Section\, where he plays a pivotal role in fostering innovation and professional development among emerging talents in the oil and gas industry. \n\n\n\n\n\nTarget Audience:\n\nPetroleum engineers and geologists working in all oil companies.\nPostgraduate students (Postgrad Diploma\, Master’s\, and PhD) specializing in petroleum engineering.\nFaculty members in petroleum engineering departments.\nRecently graduated petroleum engineers and geologists.\nResearchers in the field of petroleum engineering.\n\nNotes:\n\nThe course is designed for graduates; BSc student applications will not be considered!\nEach participant will be provided with a copy of the software along with activation.\nParticipants must bring their own personal computer (laptop) with good standing in terms of specifications to run the software.\n\n\n\n\n\n\nCertification:\nParticipants will gain practical expertise and receive an internationally recognized certificate from KPPA Engineering. \n\n\n\n\n\n\n\n\n\n\n\n\n\nRegistration Fees:\n\n\n\n\nIn line with the Section’s policy to promote membership and to ensure members benefit from the discounts offered by our Section\, we are providing discounts of over 30% on the course participation fee for our active members for the years 2024-2025 or those interested in joining the Section. Please note that members are given priority and preference for course enrollment. Additionally\, they are invited to participate in our various activities and enjoy discounts on all subsequent courses. \n\n\n\n\n\n50\,000 IQD for SPE Members affiliated with the SPE Central Iraq Section.\n50\,000 IQD for non-SPE members who are willing to join SPE through the SPE Central Iraq Section.\n75\,000 IQD for non-SPE members.\n\n\n\n\n\n\n\n\n\n\n\n\nDeclaration:\nThe SPE Central Iraq Section acknowledges that the training course and its software licenses (including the certificate issued upon course completion) are offered free of charge by KAPPA Engineering Company in support of our section’s activities. However\, our Section has set a nominal participation fee for the course to cover venue booking costs\, coffee breaks\, printed materials\, and the speaker’s accommodation and honorarium\, as the section work is voluntary. \n\nCourse Registration (Deadline 13/12/2024)\n\n\n\n\nRegistration for the course is now open! To secure your spot\, please complete the online registration form provided below. The deadline for registration is 16 December 2024. The names of accepted applicants will be announced and contacted to complete the payment process to confirm their spot. Failure to complete the payment within the specified time will result in disqualification from the course. \n\n\n\n\n\n\n\n\n\n\n\n\n\n\n\n\n\n\n\n\n\n\n\n\n\n\n\nDon’t miss this opportunity to advance your skills and gain global credentials! \nStay tuned for registration details. See you in Baghdad for this transformative learning experience!
URL:https://spe-centraliraq.org/event/training-course-production-logging-interpretation-kappa/
LOCATION:Al Farabi University College\, Al-Doura\, Al-Masafi Street (Al-Doura Refinery Street) opposite Abu Tayyara Street\, Baghdad\,\, Baghdad\, 7C54+G6 Baghdad\, Iraq
ORGANIZER;CN="SPE Central Iraq Section":MAILTO:info@spe-centraliraq.org
END:VEVENT
END:VCALENDAR